Name | Last modified | Size | Description | |
---|---|---|---|---|
Parent Directory | - | |||
buildbin-out.txt | 17-Oct-2023 00:36 | 3.7K | ||
buildbin-summary.dcf | 17-Oct-2023 00:36 | 524 | ||
buildsrc-out.txt | 17-Oct-2023 00:36 | 905 | ||
buildsrc-summary.dcf | 17-Oct-2023 00:36 | 425 | ||
checksrc-out.txt | 17-Oct-2023 00:36 | 4.3K | ||
checksrc-summary.dcf | 17-Oct-2023 00:36 | 441 | ||
install-out.txt | 17-Oct-2023 00:36 | 1.9K | ||
install-summary.dcf | 17-Oct-2023 00:36 | 267 | ||