Name | Last modified | Size | Description | |
---|---|---|---|---|
Parent Directory | - | |||
checksrc-summary.dcf | 17-Oct-2023 00:35 | 406 | ||
checksrc-out.txt | 17-Oct-2023 00:35 | 5.5K | ||
install-out.txt | 17-Oct-2023 00:35 | 954 | ||
buildsrc-summary.dcf | 17-Oct-2023 00:35 | 411 | ||
buildsrc-out.txt | 17-Oct-2023 00:35 | 1.0K | ||
install-summary.dcf | 17-Oct-2023 00:35 | 254 | ||