Name | Last modified | Size | Description | |
---|---|---|---|---|
Parent Directory | - | |||
buildsrc-out.txt | 17-Oct-2023 00:35 | 881 | ||
buildsrc-summary.dcf | 17-Oct-2023 00:35 | 424 | ||
checksrc-out.txt | 17-Oct-2023 00:35 | 6.6K | ||
checksrc-summary.dcf | 17-Oct-2023 00:35 | 431 | ||
install-out.txt | 17-Oct-2023 00:35 | 969 | ||
install-summary.dcf | 17-Oct-2023 00:35 | 264 | ||