Name | Last modified | Size | Description | |
---|---|---|---|---|
Parent Directory | - | |||
buildbin-out.txt | 17-Oct-2023 00:36 | 6.4K | ||
buildbin-summary.dcf | 17-Oct-2023 00:36 | 521 | ||
buildsrc-out.txt | 17-Oct-2023 00:36 | 873 | ||
buildsrc-summary.dcf | 17-Oct-2023 00:36 | 423 | ||
checksrc-out.txt | 17-Oct-2023 00:36 | 4.0K | ||
checksrc-summary.dcf | 17-Oct-2023 00:36 | 438 | ||
install-out.txt | 17-Oct-2023 00:36 | 2.7K | ||
install-summary.dcf | 17-Oct-2023 00:36 | 266 | ||