Name | Last modified | Size | Description | |
---|---|---|---|---|
Parent Directory | - | |||
buildbin-out.txt | 17-Oct-2023 00:35 | 5.1K | ||
install-out.txt | 17-Oct-2023 00:35 | 5.0K | ||
checksrc-out.txt | 17-Oct-2023 00:35 | 4.8K | ||
buildsrc-out.txt | 17-Oct-2023 00:35 | 876 | ||
buildbin-summary.dcf | 17-Oct-2023 00:35 | 521 | ||
buildsrc-summary.dcf | 17-Oct-2023 00:35 | 457 | ||
checksrc-summary.dcf | 17-Oct-2023 00:35 | 451 | ||
install-summary.dcf | 17-Oct-2023 00:35 | 270 | ||