Name | Last modified | Size | Description | |
---|---|---|---|---|
Parent Directory | - | |||
checksrc-out.txt | 17-Oct-2023 00:35 | 4.4K | ||
install-out.txt | 17-Oct-2023 00:35 | 1.3K | ||
buildsrc-out.txt | 17-Oct-2023 00:35 | 805 | ||
checksrc-summary.dcf | 17-Oct-2023 00:35 | 418 | ||
buildsrc-summary.dcf | 17-Oct-2023 00:35 | 415 | ||
install-summary.dcf | 17-Oct-2023 00:35 | 258 | ||