Index of /checkResults/3.17/bioc-LATEST/ArrayExpressHTS/raw-results/merida1
Name
Last modified
Size
Description
Parent Directory
-
install-summary.dcf
17-Oct-2023 00:36
287
buildsrc-summary.dcf
17-Oct-2023 00:36
358
install-out.txt
17-Oct-2023 00:36
1.3K
buildsrc-out.txt
17-Oct-2023 00:36
1.6K