Name | Last modified | Size | Description | |
---|---|---|---|---|
Parent Directory | - | |||
buildbin-out.txt | 17-Oct-2023 00:35 | 1.1K | ||
buildbin-summary.dcf | 17-Oct-2023 00:35 | 569 | ||
buildsrc-out.txt | 17-Oct-2023 00:35 | 921 | ||
buildsrc-summary.dcf | 17-Oct-2023 00:35 | 488 | ||
checksrc-out.txt | 17-Oct-2023 00:35 | 3.1K | ||
checksrc-summary.dcf | 17-Oct-2023 00:35 | 482 | ||
install-out.txt | 17-Oct-2023 00:35 | 1.0K | ||
install-summary.dcf | 17-Oct-2023 00:35 | 286 | ||