![]() | Name | Last modified | Size | Description |
---|---|---|---|---|
![]() | Parent Directory | - | ||
![]() | buildbin-out.txt | 24-Sep-2023 00:35 | 3.9K | |
![]() | buildbin-summary.dcf | 24-Sep-2023 00:35 | 533 | |
![]() | buildsrc-out.txt | 24-Sep-2023 00:35 | 886 | |
![]() | buildsrc-summary.dcf | 24-Sep-2023 00:35 | 465 | |
![]() | checksrc-out.txt | 24-Sep-2023 00:35 | 5.0K | |
![]() | checksrc-summary.dcf | 24-Sep-2023 00:35 | 459 | |
![]() | install-out.txt | 24-Sep-2023 00:35 | 3.7K | |
![]() | install-summary.dcf | 24-Sep-2023 00:35 | 274 | |