Index of /checkResults/3.17/bioc-LATEST/AneuFinder/raw-results

[ICO]NameLast modifiedSizeDescription

[DIR]Parent Directory  -  
[   ]info.dcf24-Sep-2023 00:36 277  
[DIR]merida1/24-Sep-2023 00:36 -  
[DIR]nebbiolo1/24-Sep-2023 00:34 -  
[DIR]palomino3/24-Sep-2023 00:35 -