Index of /checkResults/3.17/bioc-LATEST/AffiXcan/raw-results/merida1

[ICO]NameLast modifiedSizeDescription

[DIR]Parent Directory  -  
[TXT]buildbin-out.txt17-Oct-2023 00:36 1.2K 
[   ]buildbin-summary.dcf17-Oct-2023 00:36 536  
[   ]checksrc-summary.dcf17-Oct-2023 00:36 448  
[TXT]checksrc-out.txt17-Oct-2023 00:36 3.6K 
[   ]buildsrc-summary.dcf17-Oct-2023 00:36 430  
[TXT]buildsrc-out.txt17-Oct-2023 00:36 883  
[   ]install-summary.dcf17-Oct-2023 00:36 271  
[TXT]install-out.txt17-Oct-2023 00:36 1.0K