Name | Last modified | Size | Description | |
---|---|---|---|---|
Parent Directory | - | |||
install-summary.dcf | 17-Oct-2023 00:35 | 275 | ||
install-out.txt | 17-Oct-2023 00:35 | 1.0K | ||
checksrc-summary.dcf | 17-Oct-2023 00:35 | 461 | ||
checksrc-out.txt | 17-Oct-2023 00:35 | 3.3K | ||
buildsrc-summary.dcf | 17-Oct-2023 00:35 | 467 | ||
buildsrc-out.txt | 17-Oct-2023 00:35 | 858 | ||
buildbin-summary.dcf | 17-Oct-2023 00:35 | 536 | ||
buildbin-out.txt | 17-Oct-2023 00:35 | 1.1K | ||