Index of /checkResults/3.17/bioc-LATEST/ASpediaFI/raw-results/palomino3
Name
Last modified
Size
Description
Parent Directory
-
buildsrc-out.txt
17-Oct-2023 00:35
934
buildsrc-summary.dcf
17-Oct-2023 00:35
373
install-out.txt
17-Oct-2023 00:35
621
install-summary.dcf
17-Oct-2023 00:35
274