Index of /checkResults/3.17/bioc-LATEST/ASpediaFI/raw-results/nebbiolo1
Name
Last modified
Size
Description
Parent Directory
-
buildsrc-summary.dcf
17-Oct-2023 00:35
336
buildsrc-out.txt
17-Oct-2023 00:35
881
install-summary.dcf
17-Oct-2023 00:35
265
install-out.txt
17-Oct-2023 00:35
638