Name | Last modified | Size | Description | |
---|---|---|---|---|
Parent Directory | - | |||
install-out.txt | 17-Oct-2023 00:36 | 1.0K | ||
install-summary.dcf | 17-Oct-2023 00:36 | 266 | ||
buildsrc-out.txt | 17-Oct-2023 00:36 | 808 | ||
buildsrc-summary.dcf | 17-Oct-2023 00:36 | 422 | ||
checksrc-out.txt | 17-Oct-2023 00:36 | 3.8K | ||
checksrc-summary.dcf | 17-Oct-2023 00:36 | 437 | ||
buildbin-out.txt | 17-Oct-2023 00:36 | 1.2K | ||
buildbin-summary.dcf | 17-Oct-2023 00:36 | 519 | ||