Name | Last modified | Size | Description | |
---|---|---|---|---|
Parent Directory | - | |||
buildbin-out.txt | 17-Oct-2023 00:36 | 1.2K | ||
buildbin-summary.dcf | 17-Oct-2023 00:36 | 590 | ||
buildsrc-out.txt | 17-Oct-2023 00:36 | 919 | ||
buildsrc-summary.dcf | 17-Oct-2023 00:36 | 457 | ||
checksrc-out.txt | 17-Oct-2023 00:36 | 6.1K | ||
checksrc-summary.dcf | 17-Oct-2023 00:36 | 484 | ||
install-out.txt | 17-Oct-2023 00:36 | 1.0K | ||
install-summary.dcf | 17-Oct-2023 00:36 | 289 | ||