Name | Last modified | Size | Description | |
---|---|---|---|---|
Parent Directory | - | |||
checksrc-out.txt | 17-Oct-2023 00:36 | 3.5K | ||
buildbin-out.txt | 17-Oct-2023 00:36 | 1.2K | ||
install-out.txt | 17-Oct-2023 00:36 | 1.0K | ||
buildsrc-out.txt | 17-Oct-2023 00:36 | 879 | ||
buildbin-summary.dcf | 17-Oct-2023 00:36 | 528 | ||
checksrc-summary.dcf | 17-Oct-2023 00:36 | 444 | ||
buildsrc-summary.dcf | 17-Oct-2023 00:36 | 427 | ||
install-summary.dcf | 17-Oct-2023 00:36 | 269 | ||