Index of /checkResults/3.16/workflows-LATEST/sequencing/raw-results/lconway
Name
Last modified
Size
Description
Parent Directory
-
install-out.txt
12-Apr-2023 03:00
972
buildsrc-out.txt
12-Apr-2023 03:00
902
buildsrc-summary.dcf
12-Apr-2023 03:00
436
install-summary.dcf
12-Apr-2023 03:00
275