Index of /checkResults/3.16/workflows-LATEST/maEndToEnd/raw-results/nebbiolo2
Name
Last modified
Size
Description
Parent Directory
-
install-summary.dcf
12-Apr-2023 03:00
265
install-out.txt
12-Apr-2023 03:00
1.1K
buildsrc-summary.dcf
12-Apr-2023 03:00
339
buildsrc-out.txt
12-Apr-2023 03:00
1.1K