Index of /checkResults/3.16/workflows-LATEST/maEndToEnd/raw-results/lconway
Name
Last modified
Size
Description
Parent Directory
-
install-out.txt
12-Apr-2023 03:00
1.1K
buildsrc-out.txt
12-Apr-2023 03:00
1.1K
buildsrc-summary.dcf
12-Apr-2023 03:00
349
install-summary.dcf
12-Apr-2023 03:00
275