Index of /checkResults/3.16/workflows-LATEST/fluentGenomics/raw-results/lconway
Name
Last modified
Size
Description
Parent Directory
-
install-summary.dcf
12-Apr-2023 03:00
283
install-out.txt
12-Apr-2023 03:00
1.0K
buildsrc-summary.dcf
12-Apr-2023 03:00
448
buildsrc-out.txt
12-Apr-2023 03:00
844