Index of /checkResults/3.16/workflows-LATEST/fluentGenomics/raw-results/lconway
Name
Last modified
Size
Description
Parent Directory
-
buildsrc-out.txt
12-Apr-2023 03:00
844
buildsrc-summary.dcf
12-Apr-2023 03:00
448
install-out.txt
12-Apr-2023 03:00
1.0K
install-summary.dcf
12-Apr-2023 03:00
283