Index of /checkResults/3.16/workflows-LATEST/cytofWorkflow/raw-results/palomino4
Name
Last modified
Size
Description
Parent Directory
-
buildsrc-out.txt
12-Apr-2023 03:00
906
buildsrc-summary.dcf
12-Apr-2023 03:00
476
install-out.txt
12-Apr-2023 03:00
1.2K
install-summary.dcf
12-Apr-2023 03:00
280