Index of /checkResults/3.16/workflows-LATEST/cytofWorkflow/raw-results/nebbiolo2
Name
Last modified
Size
Description
Parent Directory
-
buildsrc-out.txt
12-Apr-2023 03:00
870
buildsrc-summary.dcf
12-Apr-2023 03:00
436
install-out.txt
12-Apr-2023 03:00
1.2K
install-summary.dcf
12-Apr-2023 03:00
271