Index of /checkResults/3.16/workflows-LATEST/csawUsersGuide/raw-results/nebbiolo2
Name
Last modified
Size
Description
Parent Directory
-
install-summary.dcf
12-Apr-2023 03:00
272
buildsrc-summary.dcf
12-Apr-2023 03:00
437
buildsrc-out.txt
12-Apr-2023 03:00
868
install-out.txt
12-Apr-2023 03:00
968