Index of /checkResults/3.16/workflows-LATEST/SingscoreAMLMutations/raw-results/palomino4
Name
Last modified
Size
Description
Parent Directory
-
install-out.txt
12-Apr-2023 03:00
1.6K
buildsrc-out.txt
12-Apr-2023 03:00
1.5K
buildsrc-summary.dcf
12-Apr-2023 03:00
509
install-summary.dcf
12-Apr-2023 03:00
296