Index of /checkResults/3.16/workflows-LATEST/ExpressionNormalizationWorkflow/raw-results/palomino4
Name
Last modified
Size
Description
Parent Directory
-
install-out.txt
12-Apr-2023 03:00
2.0K
buildsrc-out.txt
12-Apr-2023 03:00
1.0K
buildsrc-summary.dcf
12-Apr-2023 03:00
549
install-summary.dcf
12-Apr-2023 03:00
316