Index of /checkResults/3.16/workflows-LATEST/ExpressionNormalizationWorkflow/raw-results/nebbiolo2
Name
Last modified
Size
Description
Parent Directory
-
install-out.txt
12-Apr-2023 03:00
2.0K
buildsrc-out.txt
12-Apr-2023 03:00
942
buildsrc-summary.dcf
12-Apr-2023 03:00
490
install-summary.dcf
12-Apr-2023 03:00
307