Index of /checkResults/3.16/workflows-LATEST/ExpressionNormalizationWorkflow/raw-results/lconway
Name
Last modified
Size
Description
Parent Directory
-
buildsrc-out.txt
12-Apr-2023 03:00
952
buildsrc-summary.dcf
12-Apr-2023 03:00
500
install-out.txt
12-Apr-2023 03:00
2.0K
install-summary.dcf
12-Apr-2023 03:00
317