Index of /checkResults/3.16/workflows-LATEST/CAGEWorkflow/raw-results/nebbiolo2
Name
Last modified
Size
Description
Parent Directory
-
buildsrc-out.txt
12-Apr-2023 03:00
866
buildsrc-summary.dcf
12-Apr-2023 03:00
431
install-out.txt
12-Apr-2023 03:00
960
install-summary.dcf
12-Apr-2023 03:00
269