Index of /checkResults/3.16/workflows-LATEST/BiocMetaWorkflow/raw-results/palomino4
Name
Last modified
Size
Description
Parent Directory
-
buildsrc-out.txt
12-Apr-2023 03:00
919
buildsrc-summary.dcf
12-Apr-2023 03:00
488
install-out.txt
12-Apr-2023 03:00
972
install-summary.dcf
12-Apr-2023 03:00
285