Index of /checkResults/3.16/workflows-LATEST/BiocMetaWorkflow/raw-results/nebbiolo2
Name
Last modified
Size
Description
Parent Directory
-
buildsrc-out.txt
12-Apr-2023 03:00
876
buildsrc-summary.dcf
12-Apr-2023 03:00
443
install-out.txt
12-Apr-2023 03:00
968
install-summary.dcf
12-Apr-2023 03:00
276