Index of /checkResults/3.16/workflows-LATEST/BiocMetaWorkflow/raw-results/lconway
Name
Last modified
Size
Description
Parent Directory
-
install-summary.dcf
12-Apr-2023 03:00
286
buildsrc-summary.dcf
12-Apr-2023 03:00
454
buildsrc-out.txt
12-Apr-2023 03:00
886
install-out.txt
12-Apr-2023 03:00
1.0K