Name | Last modified | Size | Description | |
---|---|---|---|---|
Parent Directory | - | |||
checksrc-summary.dcf | 12-Apr-2023 03:50 | 439 | ||
checksrc-out.txt | 12-Apr-2023 03:50 | 7.8K | ||
buildsrc-summary.dcf | 12-Apr-2023 03:50 | 431 | ||
buildsrc-out.txt | 12-Apr-2023 03:50 | 889 | ||
install-summary.dcf | 12-Apr-2023 03:50 | 268 | ||
install-out.txt | 12-Apr-2023 03:50 | 967 | ||