![]() | Name | Last modified | Size | Description |
---|---|---|---|---|
![]() | Parent Directory | - | ||
![]() | buildsrc-out.txt | 12-Apr-2023 03:50 | 766 | |
![]() | buildsrc-summary.dcf | 12-Apr-2023 03:50 | 440 | |
![]() | checksrc-out.txt | 12-Apr-2023 03:50 | 2.8K | |
![]() | checksrc-summary.dcf | 12-Apr-2023 03:50 | 451 | |
![]() | install-out.txt | 12-Apr-2023 03:50 | 937 | |
![]() | install-summary.dcf | 12-Apr-2023 03:50 | 275 | |