![]() | Name | Last modified | Size | Description |
---|---|---|---|---|
![]() | Parent Directory | - | ||
![]() | buildsrc-out.txt | 12-Apr-2023 03:50 | 830 | |
![]() | buildsrc-summary.dcf | 12-Apr-2023 03:50 | 435 | |
![]() | checksrc-out.txt | 12-Apr-2023 03:50 | 3.1K | |
![]() | checksrc-summary.dcf | 12-Apr-2023 03:50 | 438 | |
![]() | install-out.txt | 12-Apr-2023 03:50 | 970 | |
![]() | install-summary.dcf | 12-Apr-2023 03:50 | 271 | |