![]() | Name | Last modified | Size | Description |
---|---|---|---|---|
![]() | Parent Directory | - | ||
![]() | buildsrc-out.txt | 12-Apr-2023 03:50 | 866 | |
![]() | buildsrc-summary.dcf | 12-Apr-2023 03:50 | 431 | |
![]() | checksrc-out.txt | 12-Apr-2023 03:50 | 3.1K | |
![]() | checksrc-summary.dcf | 12-Apr-2023 03:50 | 433 | |
![]() | install-out.txt | 12-Apr-2023 03:50 | 967 | |
![]() | install-summary.dcf | 12-Apr-2023 03:50 | 268 | |