Index of /checkResults/3.16/data-experiment-LATEST/microbiomeDataSets/raw-results
Name
Last modified
Size
Description
Parent Directory
-
info.dcf
12-Apr-2023 03:50
285
nebbiolo2/
12-Apr-2023 03:50
-