Name | Last modified | Size | Description | |
---|---|---|---|---|
Parent Directory | - | |||
install-summary.dcf | 12-Apr-2023 03:50 | 288 | ||
install-out.txt | 12-Apr-2023 03:50 | 915 | ||
checksrc-summary.dcf | 12-Apr-2023 03:50 | 472 | ||
checksrc-out.txt | 12-Apr-2023 03:50 | 2.5K | ||
buildsrc-summary.dcf | 12-Apr-2023 03:50 | 461 | ||
buildsrc-out.txt | 12-Apr-2023 03:50 | 857 | ||