Name | Last modified | Size | Description | |
---|---|---|---|---|
Parent Directory | - | |||
install-summary.dcf | 12-Apr-2023 03:50 | 257 | ||
install-out.txt | 12-Apr-2023 03:50 | 933 | ||
checksrc-summary.dcf | 12-Apr-2023 03:50 | 410 | ||
checksrc-out.txt | 12-Apr-2023 03:50 | 3.5K | ||
buildsrc-summary.dcf | 12-Apr-2023 03:50 | 414 | ||
buildsrc-out.txt | 12-Apr-2023 03:50 | 793 | ||