Name | Last modified | Size | Description | |
---|---|---|---|---|
Parent Directory | - | |||
checksrc-out.txt | 12-Apr-2023 03:50 | 4.1K | ||
buildsrc-out.txt | 12-Apr-2023 03:50 | 1.1K | ||
install-out.txt | 12-Apr-2023 03:50 | 1.0K | ||
checksrc-summary.dcf | 12-Apr-2023 03:50 | 424 | ||
buildsrc-summary.dcf | 12-Apr-2023 03:50 | 419 | ||
install-summary.dcf | 12-Apr-2023 03:50 | 262 | ||