![]() | Name | Last modified | Size | Description |
---|---|---|---|---|
![]() | Parent Directory | - | ||
![]() | buildsrc-out.txt | 12-Apr-2023 03:50 | 838 | |
![]() | buildsrc-summary.dcf | 12-Apr-2023 03:50 | 441 | |
![]() | checksrc-out.txt | 12-Apr-2023 03:50 | 4.7K | |
![]() | checksrc-summary.dcf | 12-Apr-2023 03:50 | 452 | |
![]() | install-out.txt | 12-Apr-2023 03:50 | 1.0K | |
![]() | install-summary.dcf | 12-Apr-2023 03:50 | 275 | |