Index of /checkResults/3.16/data-experiment-LATEST/SNAGEEdata/raw-results

[ICO]NameLast modifiedSizeDescription

[DIR]Parent Directory  -  
[   ]info.dcf17-Aug-2022 03:50 267  
[DIR]nebbiolo2/17-Aug-2022 03:50 -