Back to Build/check report for BioC 3.16 experimental data
ABCDEFGHIJKLMNOPQR[S]TUVWXYZ

This page was generated on 2022-08-16 14:50:36 -0400 (Tue, 16 Aug 2022).

HostnameOSArch (*)R versionInstalled pkgs
nebbiolo2Linux (Ubuntu 20.04.4 LTS)x86_644.2.1 (2022-06-23) -- "Funny-Looking Kid" 4379
Click on any hostname to see more info about the system (e.g. compilers)      (*) as reported by 'uname -p', except on Windows and Mac OS X

BUILD results for SNAGEEdata on nebbiolo2


To the developers/maintainers of the SNAGEEdata package:
Make sure to use the following settings in order to reproduce any error or warning you see on this page.

raw results

Package 357/410HostnameOS / ArchINSTALLBUILDCHECK
SNAGEEdata 1.33.0  (landing page)
David Venet
Snapshot Date: 2022-08-16 07:30:02 -0400 (Tue, 16 Aug 2022)
git_url: https://git.bioconductor.org/packages/SNAGEEdata
git_branch: master
git_last_commit: b42d64a
git_last_commit_date: 2022-04-26 13:07:05 -0400 (Tue, 26 Apr 2022)
nebbiolo2Linux (Ubuntu 20.04.4 LTS) / x86_64  OK    OK    OK  UNNEEDED, same version is already published

Summary

Package: SNAGEEdata
Version: 1.33.0
Command: /home/biocbuild/bbs-3.16-bioc/R/bin/R CMD build --keep-empty-dirs --no-resave-data SNAGEEdata
StartedAt: 2022-08-16 10:40:54 -0400 (Tue, 16 Aug 2022)
EndedAt: 2022-08-16 10:40:56 -0400 (Tue, 16 Aug 2022)
EllapsedTime: 2.0 seconds
RetCode: 0
Status:   OK  
PackageFile: SNAGEEdata_1.33.0.tar.gz
PackageFileSize: 29.22 MiB

Command output

##############################################################################
##############################################################################
###
### Running command:
###
###   /home/biocbuild/bbs-3.16-bioc/R/bin/R CMD build --keep-empty-dirs --no-resave-data SNAGEEdata
###
##############################################################################
##############################################################################


* checking for file ‘SNAGEEdata/DESCRIPTION’ ... OK
* preparing ‘SNAGEEdata’:
* checking DESCRIPTION meta-information ... OK
* checking for LF line-endings in source and make files and shell scripts
* checking for empty or unneeded directories
* building ‘SNAGEEdata_1.33.0.tar.gz’