Name | Last modified | Size | Description | |
---|---|---|---|---|
Parent Directory | - | |||
buildsrc-out.txt | 12-Apr-2023 03:50 | 1.2K | ||
buildsrc-summary.dcf | 12-Apr-2023 03:50 | 428 | ||
checksrc-out.txt | 12-Apr-2023 03:50 | 3.4K | ||
checksrc-summary.dcf | 12-Apr-2023 03:50 | 436 | ||
install-out.txt | 12-Apr-2023 03:50 | 948 | ||
install-summary.dcf | 12-Apr-2023 03:50 | 267 | ||