Name | Last modified | Size | Description | |
---|---|---|---|---|
Parent Directory | - | |||
buildsrc-out.txt | 12-Apr-2023 03:50 | 816 | ||
buildsrc-summary.dcf | 12-Apr-2023 03:50 | 429 | ||
checksrc-out.txt | 12-Apr-2023 03:50 | 3.1K | ||
checksrc-summary.dcf | 12-Apr-2023 03:50 | 432 | ||
install-out.txt | 12-Apr-2023 03:50 | 951 | ||
install-summary.dcf | 12-Apr-2023 03:50 | 268 | ||