![]() | Name | Last modified | Size | Description |
---|---|---|---|---|
![]() | Parent Directory | - | ||
![]() | buildsrc-out.txt | 12-Apr-2023 03:50 | 1.1K | |
![]() | buildsrc-summary.dcf | 12-Apr-2023 03:50 | 420 | |
![]() | checksrc-out.txt | 12-Apr-2023 03:50 | 3.1K | |
![]() | checksrc-summary.dcf | 12-Apr-2023 03:50 | 418 | |
![]() | install-out.txt | 12-Apr-2023 03:50 | 905 | |
![]() | install-summary.dcf | 12-Apr-2023 03:50 | 261 | |