Name | Last modified | Size | Description | |
---|---|---|---|---|
Parent Directory | - | |||
buildsrc-out.txt | 12-Apr-2023 03:50 | 905 | ||
buildsrc-summary.dcf | 12-Apr-2023 03:50 | 497 | ||
checksrc-out.txt | 12-Apr-2023 03:50 | 2.8K | ||
checksrc-summary.dcf | 12-Apr-2023 03:50 | 521 | ||
install-out.txt | 12-Apr-2023 03:50 | 959 | ||
install-summary.dcf | 12-Apr-2023 03:50 | 312 | ||