Name | Last modified | Size | Description | |
---|---|---|---|---|
Parent Directory | - | |||
buildsrc-out.txt | 12-Apr-2023 03:50 | 805 | ||
buildsrc-summary.dcf | 12-Apr-2023 03:50 | 423 | ||
checksrc-out.txt | 12-Apr-2023 03:50 | 3.0K | ||
checksrc-summary.dcf | 12-Apr-2023 03:50 | 421 | ||
install-out.txt | 12-Apr-2023 03:50 | 942 | ||
install-summary.dcf | 12-Apr-2023 03:50 | 263 | ||