![]() | Name | Last modified | Size | Description |
---|---|---|---|---|
![]() | Parent Directory | - | ||
![]() | buildsrc-out.txt | 12-Apr-2023 03:50 | 830 | |
![]() | buildsrc-summary.dcf | 12-Apr-2023 03:50 | 435 | |
![]() | checksrc-out.txt | 12-Apr-2023 03:50 | 2.6K | |
![]() | checksrc-summary.dcf | 12-Apr-2023 03:50 | 437 | |
![]() | install-out.txt | 12-Apr-2023 03:50 | 912 | |
![]() | install-summary.dcf | 12-Apr-2023 03:50 | 271 | |